BEGIN:VCALENDAR
VERSION:2.0
PRODID:-//Plone.org//NONSGML plone.app.event//EN
X-WR-TIMEZONE:Europe/Berlin
BEGIN:VEVENT
SUMMARY:Termin: MessePrepare 2026: „Wie du dir die Praxis ins Studium ho
 lst“
DTSTART;TZID=Europe/Berlin;VALUE=DATE-TIME:20251103T170000
DTEND;TZID=Europe/Berlin;VALUE=DATE-TIME:20251103T180000
DTSTAMP;VALUE=DATE-TIME:20260424T073413Z
UID:caa3a39c169447f3a826a6c7dc4302b6@www.wikway.de
ATTENDEE;CN="Studierende allen Semesters insb. Erstsemester, unabhängig d
 es Studiengangs und der Hochschule";ROLE=REQ-PARTICIPANT:Studierende allen
  Semesters insb. Erstsemester, unabhängig des Studiengangs und der Hochsc
 hule
CONTACT:Nina Grätschus\, +493758838147\, team@wikway.de
CREATED;VALUE=DATE-TIME:20230206T095324Z
DESCRIPTION:-> Termin für 2026 folgt
LAST-MODIFIED;VALUE=DATE-TIME:20251202T094154Z
LOCATION:online Webinar
URL:https://www.wikway.de/wik-leipzig-htwk/termine/messeprepare
END:VEVENT
BEGIN:VTIMEZONE
TZID:Europe/Berlin
X-LIC-LOCATION:Europe/Berlin
BEGIN:STANDARD
DTSTART;VALUE=DATE-TIME:20251026T020000
TZNAME:CET
TZOFFSETFROM:+0200
TZOFFSETTO:+0100
END:STANDARD
END:VTIMEZONE
END:VCALENDAR
