BEGIN:VCALENDAR
VERSION:2.0
PRODID:-//Plone.org//NONSGML plone.app.event//EN
X-WR-TIMEZONE:Europe/Berlin
BEGIN:VEVENT
SUMMARY:Termin: 14.04.2025 - WIK-Chemnitz Kolloquium
DTSTART;TZID=Europe/Berlin;VALUE=DATE-TIME:20250414T180000
DTEND;TZID=Europe/Berlin;VALUE=DATE-TIME:20250414T210000
DTSTAMP;VALUE=DATE-TIME:20260423T041623Z
UID:926ea25a41d141f89facd285179da9ba@www.wikway.de
ATTENDEE;CN="Unternehmensvertreter regionaler Firmen insb. Geschäftsführ
 er, Abteilungs-, Team- oder Bereichsleiter in Begleitung eines Personalref
 erenten";ROLE=REQ-PARTICIPANT:Unternehmensvertreter regionaler Firmen insb
 . Geschäftsführer, Abteilungs-, Team- oder Bereichsleiter in Begleitung 
 eines Personalreferenten
ATTENDEE;CN=Professoren;ROLE=REQ-PARTICIPANT:Professoren
ATTENDEE;CN="Professionals, Studierende & Absolventen regionaler Herkunft,
  die sich für das Thema interessieren";ROLE=REQ-PARTICIPANT:Professionals
 , Studierende & Absolventen regionaler Herkunft, die sich für das Thema i
 nteressieren
CREATED;VALUE=DATE-TIME:20230206T094915Z
DESCRIPTION:Netzwerkevent für Studierende & Young Professionals\, um in d
 irekten Austausch mit Unternehmen zu gehen.
LAST-MODIFIED;VALUE=DATE-TIME:20241219T101514Z
LOCATION:Bar Ausgleich\, Mensa TU Chemnitz\, Reichenhainer Str. 55\, 09126
  Chemnitz
URL:https://www.wikway.de/wik-chemnitz/termine/Kolloquium%20SoSe
END:VEVENT
BEGIN:VTIMEZONE
TZID:Europe/Berlin
X-LIC-LOCATION:Europe/Berlin
BEGIN:DAYLIGHT
DTSTART;VALUE=DATE-TIME:20250330T030000
TZNAME:CEST
TZOFFSETFROM:+0100
TZOFFSETTO:+0200
END:DAYLIGHT
END:VTIMEZONE
END:VCALENDAR
